0.1
0
0
-0.1
576831.293476572
4721946.06706452
