0.1
0
0
-0.1
577685.234945361
4721955.74931927
