0.1
0
0
-0.1
573106.478282657
4750826.12736452
