0.1
0
0
-0.1
573112.681146634
4750247.76783584
