0.1
0
0
-0.1
573125.087475571
4749091.0517533
