0.1
0
0
-0.1
605599.218172495
4739680.85937765
