0.1
0
0
-0.1
606451.024714019
4739693.91609848
