0.1
0
0
-0.1
607284.762964334
4740863.87740711
