0.1
0
0
-0.1
607302.831526226
4739707.18131493
