0.1
0
0
-0.1
573470.88273867
4716703.89910674
