0.1
0
0
-0.1
555547.557469156
4713645.03372504
