0.1
0
0
-0.1
595095.45421926
4759773.64196196
