0.1
0
0
-0.1
596777.637048228
4760954.17367034
