0.1
0
0
-0.1
595952.91661718
4759207.07170145
