0.1
0
0
-0.1
598409.040187621
4765605.61788924
