0.1
0
0
-0.1
599257.648982962
4765617.83903654
