0.1
0
0
-0.1
599299.845191955
4762725.94649603
