0.1
0
0
-0.1
600980.61337031
4763907.76142177
