0.1
0
0
-0.1
621806.215291211
4786234.11714398
