0.1
0
0
-0.1
622662.798376542
4785670.88144626
