0.1
0
0
-0.1
622673.273638047
4785092.47601098
