0.1
0
0
-0.1
620165.321703306
4783311.75163264
