0.1
0
0
-0.1
621879.042186318
4782185.29145676
