0.1
0
0
-0.1
620196.102208891
4781576.55957565
