0.1
0
0
-0.1
623561.700604858
4782794.23865409
