0.1
0
0
-0.1
626101.281587904
4782840.974643
