0.1
0
0
-0.1
624418.839686463
4782231.41869486
