0.1
0
0
-0.1
624429.449700744
4781653.01531778
