0.1
0
0
-0.1
626122.785464773
4781684.1678677
