0.1
0
0
-0.1
624440.060217262
4781074.61293857
