0.1
0
0
-0.1
625286.799012813
4781090.18996951
