0.1
0
0
-0.1
619390.177760181
4779248.02582454
