0.1
0
0
-0.1
613490.486688518
4777411.1317004
