0.1
0
0
-0.1
614347.420156126
4776847.06460205
