0.1
0
0
-0.1
619430.913371473
4776934.45237674
