0.1
0
0
-0.1
615214.318237862
4775704.6024318
