0.1
0
0
-0.1
613529.222866476
4775097.57235015
