0.1
0
0
-0.1
616081.491898202
4774562.12960727
