0.1
0
0
-0.1
614396.175170598
4773955.10124093
