0.1
0
0
-0.1
615243.776282341
4773969.41829887
