0.1
0
0
-0.1
616909.100065868
4775733.44784937
