0.1
0
0
-0.1
617756.491798057
4775748.18652824
