0.1
0
0
-0.1
612729.780987024
4772191.51900927
