0.1
0
0
-0.1
612739.382738723
4771613.1343306
