0.1
0
0
-0.1
614405.917614428
4773376.71087552
