0.1
0
0
-0.1
615253.589815775
4773391.02783458
