0.1
0
0
-0.1
616101.264133382
4773405.34437903
