0.1
0
0
-0.1
613587.267096753
4771627.23954836
