0.1
0
0
-0.1
621920.644509748
4779871.69184604
