0.1
0
0
-0.1
620247.396223525
4778684.57918712
